BEGIN:VCALENDAR
VERSION:2.0
METHOD:PUBLISH
X-WR-CALNAME;VALUE=TEXT:Veolia | Water Tech Suomi
PRODID:-//Drupal//EN
BEGIN:VEVENT
SUMMARY:R3 Nordic Symposium & Exhibition
DTSTART:20260505T000000
DTEND:20260507T000000
DESCRIPTION:Oikeanlainen vedenkäsittely auttaa ympäristötavoitteidesi sa
 avuttamisessa
DTSTAMP:20260421T081002Z
UID:6781@www.veoliawatertechnologies.fi
URL:https://www.veoliawatertechnologies.fi/fi/tapahtumat/r3-nordic-symposiu
 m-exhibition
END:VEVENT
END:VCALENDAR
